BEGIN:VCALENDAR
VERSION:2.0
PRODID:-//eventon.com NONSGML v1.0//EN
BEGIN:VEVENT
UID:69e735ab22342
DTSTAMP:20260421T103035
DTSTART:20240914T090000Z
DTEND:20240914T120000Z
LOCATION:Köln\,  Sporthalle Westerwaldstraße Westerwaldstraße 92\,  51105 Köln
SUMMARY:VERSCHOBEN: Dananwärter:innen-Lehrgang
DESCRIPTION: Dananwärter:innen-Lehrgang &nbsp; Teilnahme\,  Ziele/Inhalte Ab 1. Kyu\,  Bedeutung Dananwärter / Das Graduierungssystem - Kyugrade - Dangrade / Der Danträger / Die Grundlagen des DKV -Regelwerkes Bewertungskriterien Kata und Kumite für Leistungssport und Breitensport &nbsp; 5. Termin 07.09.2024\,  11:00 Uhr – 14:00 Uhr Neues Datum: 14.09.2024\,  11:00 Uhr – 14:00 Uhr[..]
END:VEVENT
END:VCALENDAR