BEGIN:VCALENDAR
VERSION:2.0
PRODID:-//eventon.com NONSGML v1.0//EN
BEGIN:VEVENT
UID:69e88da768175
DTSTAMP:20260422T105815
DTSTART:20241102T070000Z
DTEND:20241103T123000Z
LOCATION:Hachen\,  Sportschule Am Holthahn 1\,  59846 Sundern
SUMMARY:Trainer:innen- B – Ausbildung\,  Breitensport - Teil 2
DESCRIPTION: Trainer:innen- B – Ausbildung\,  Breitensport  Profil: Kinder und Jugendliche Ziele: Diese Qualifizierungsmaßnahme ist speziell für angehende Trainer:innen entwickelt\,  die sich auf die Anleitung und Förderung junger Karateka konzentrieren möchten. In diesem Kurs wird ein besonderer Schwerpunkt auf die Entwicklung von Trainingsmethoden gelegt\,  die auf die spezifischen Bedürfnisse und Fähigkeiten von[..]
END:VEVENT
END:VCALENDAR