BEGIN:VCALENDAR
VERSION:2.0
PRODID:-//eventon.com NONSGML v1.0//EN
BEGIN:VEVENT
UID:69e75f4eb9480
DTSTAMP:20260421T132814
DTSTART:20230408T074500Z
DTEND:20230408T160000Z
LOCATION:Bonn Bad Godesberg\,  Sportpark Pennefeld Mallwitzstraße 4\,  53177 Bonn - Bad Godesberg
SUMMARY:3. Bonner Kata-Marathon
DESCRIPTION: Download Ausschreibung
END:VEVENT
END:VCALENDAR