BEGIN:VCALENDAR
VERSION:2.0
PRODID:-//eventon.com NONSGML v1.0//EN
BEGIN:VEVENT
UID:69e75f6385fee
DTSTAMP:20260421T132835
DTSTART:20230423T080000Z
DTEND:20230423T120000Z
LOCATION:Duisburg\,  KDNW\,  Haus der Verbände Friedrich-Alfred-Allee 25\,  47055 Duisburg
SUMMARY:Verbandstag und Verbandsjugendtag
DESCRIPTION: Verschoben vom 30. auf den 23.04.2023 Die Einladungen wurden an alle Dojos verschickt. &nbsp; Einladung Verbandsjugendtag Einladung Verbandstag
END:VEVENT
END:VCALENDAR