BEGIN:VCALENDAR
VERSION:2.0
PRODID:-//eventon.com NONSGML v1.0//EN
BEGIN:VEVENT
UID:69e88d53de13d
DTSTAMP:20260422T105651
DTSTART:20230415T080000Z
DTEND:20230415T160000Z
LOCATION:Koblenz\,  CGM-Arena Jupp-Gauchel-Str. 10\,  56075 Koblenz
SUMMARY:RKV Open in Koblenz
DESCRIPTION: Sportdata: https://www.sportdata.org/karate/set-online/veranstaltung_info_main.php?active_menu=calendar&vernr=6721#a_eventhead
END:VEVENT
END:VCALENDAR