BEGIN:VCALENDAR
VERSION:2.0
PRODID:-//eventon.com NONSGML v1.0//EN
BEGIN:VEVENT
UID:69e735ba2807f
DTSTAMP:20260421T103050
DTSTART:20230325T080000Z
DTEND:20230325T140000Z
LOCATION:Lemgo Vogelsang 31\,  32657 Lemgo
SUMMARY:Bezirksmeisterschaft Westfalen
DESCRIPTION: Sportdata: https://www.sportdata.org/karate/set-online/veranstaltung_info_main.php?active_menu=calendar&vernr=6957#a_eventhead Ort: Vogelsang 31\,  32657 Lemgo
END:VEVENT
END:VCALENDAR