BEGIN:VCALENDAR
VERSION:2.0
PRODID:-//eventon.com NONSGML v1.0//EN
BEGIN:VEVENT
UID:69e735c4d833d
DTSTAMP:20260421T103100
DTSTART:20231105T080000Z
DTEND:20231105T123000Z
LOCATION:Rheine\,  Sportpark des TV Jahn-Rheine 1885 e.V. Germanenallee 4\,  48429 Rheine
SUMMARY:Dansha-Lehrgang Goju-Ryu
DESCRIPTION: Dansha-Lehrgänge Goju-Ryu Teilnahme Goju-Ryu Karateka\,  Dojoleiter:innen\,  Übungsleiter:innen\,  Danträger:innen\,  Funktions- und Leistungsträger:innen 1. Lehrgang: Kata/Bunkai – Vielfalt in den Techniken Termin: 29.04.2023\,  10:00-15:00 Uhr Leitung: Simo Tolo Ort: TG Neuss\,  Schorlemerstr. 133\,  41464 Neuss 2. Lehrgang: Yakusoku und Selbstverteidigung bei der Danprüfung Termin: 07.05.2024\,  10:00-14:30 Uhr Leitung: Frank Beeking und Rainer[..]
END:VEVENT
END:VCALENDAR