BEGIN:VCALENDAR
VERSION:2.0
PRODID:-//eventon.com NONSGML v1.0//EN
BEGIN:VEVENT
UID:69e75f5790f53
DTSTAMP:20260421T132823
DTSTART:20230916T073000Z
DTEND:20230916T110000Z
LOCATION:Wesel\,  Petristr. Petristr.\,  46487 Wesel
SUMMARY:Prüfer:innen- und Stilrichtungslehrgang Kempo
DESCRIPTION: Prüfer:innen- und Stilrichtungslehrgang Kempo Teilnahme Karateka aller Stile ab 5. Kyu mit DKV-Ausweis. 1. Lehrgang: Traditionelles Shaolin Kempo Kumite\,  Nr. 26-35\,  Einführung Termin: 13.05.2023\,  09:30-13:00 Uhr Leitung: Joachim Hölscher (0170/7020828)\,  Manfred In- oue\,  Mareike Hentschel Ort: Turnhalle der Grundschule an der Petristrasse\,  46487 Wesel Anmeldung: j.hoelscher@kdnw.de 2. Lehrgang: Nach Wahl[..]
END:VEVENT
END:VCALENDAR