BEGIN:VCALENDAR
VERSION:2.0
PRODID:-//eventon.com NONSGML v1.0//EN
BEGIN:VEVENT
UID:69e74782cae70
DTSTAMP:20260421T114642
DTSTART:20230923T080000Z
DTEND:20230923T130000Z
LOCATION:Sporthalle der TG Neuss Schorlemerstr 133\,  41464 Neuss
SUMMARY:Prüfer:innenlehrgang Goju-Ryu
DESCRIPTION: Anmeldung ausschließlich über https://karate.nrw/lub Prüfer:innenlehrgänge Goju-Ryu Teilnahme Goju-Ryu Prüfer:innenlehrgang für Lizenzinhaber:innen und Anwärter:innen\,  Pflichtlehrgang. Übungsleiter:innen\,  die Karateka auf Kyu-Prüfungen vorbereiten\,  sind ebenfalls willkommen. Inhalt Theorie: Verfahrensordnung\,  Bewertungskriterien\,  Erfah- rungsaustausch\,  methodische Reihen in der Prüfungsvorbe- reitung. Praxis: Kihon\,  Kata\,  Kata-Bunkai\,  Partnerformen 1. Lehrgang Termin: 19.03.2023\,  10:00-14:30 Uhr Leitung: Brigitte Kipke-Osterbrink\,  Frank Beeking[..]
END:VEVENT
END:VCALENDAR