BEGIN:VCALENDAR
VERSION:2.0
PRODID:-//eventon.com NONSGML v1.0//EN
BEGIN:VEVENT
UID:69e785d6de78f
DTSTAMP:20260421T161238
DTSTART:20230727T080000Z
DTEND:20230730T110000Z
LOCATION:Hachen\,  Sportschule Am Holthahn 1\,  59846 Sundern
SUMMARY:Ausbildung Trainerassistent:in
DESCRIPTION: Anmeldung ausschließlich über https://karate.nrw/lub &nbsp; Ausbildung Trainerassistent:in Ziele Die Teilnehmer:innen sollen befähigt werden\,  in ihrem Ver- ein die Trainer:innen bei der Organisation und Durchfüh- rung des Trainings zu unterstützen. Sie sollen den Vereins- sport mitgestalten und mitbestimmen können. Inhalte Spielformen im Karate-Training\,  richtiges Auf- und Ab- wärmen\,  Funktionsgymnastik\,  Anatomie/Physiologie\,  Belastungs- und[..]
END:VEVENT
END:VCALENDAR