BEGIN:VCALENDAR
VERSION:2.0
PRODID:-//eventon.com NONSGML v1.0//EN
BEGIN:VEVENT
UID:69e88ab8c77a1
DTSTAMP:20260422T104544
DTSTART:20230128T080000Z
DTEND:20230128T160000Z
LOCATION:Budokan Bochum e. V. Halbachstr. 3 – 5\,  44793 Bochum
SUMMARY:Prüfer*innenlehrgang Shotokan
DESCRIPTION: Anmeldung ausschließlich über https://karate.nrw/lub &nbsp; Prüfer*innenlehrgänge Shotokan &nbsp; Teilnahme lizenzierte Prüfer/innen des KDNW Inhalte Prüfungsordnung in Theorie und Praxis 1.Lehrgang 28.01.2023\,  10:00 Uhr – 18.00 Uhr 2. Lehrgang 28.10.2023\,  10:00 Uhr – 18.00 Uhr Leitung Georg Karras Ort Budokan Bochum e. V.\,  Halbachstr. 3 – 5\,  44793 Bochum Teilnahmegebühr keine
END:VEVENT
END:VCALENDAR