BEGIN:VCALENDAR
VERSION:2.0
PRODID:-//eventon.com NONSGML v1.0//EN
BEGIN:VEVENT
UID:69e7478245674
DTSTAMP:20260421T114642
DTSTART:20221105T080000Z
DTEND:20221105T160000Z
LOCATION:Köln\,  Sporthalle Westerwaldstraße Westerwaldstraße 92\,  51105 Köln
SUMMARY:NRW Kids' Cup - Das KDNW Nachwuchsturnier für die Klassen U8 bis U14
DESCRIPTION: Sportdata Download Ausschreibung
END:VEVENT
END:VCALENDAR