BEGIN:VCALENDAR
VERSION:2.0
PRODID:-//eventon.com NONSGML v1.0//EN
BEGIN:VEVENT
UID:69e75bac62e37
DTSTAMP:20260421T131244
DTSTART:20220424T120000Z
DTEND:20220424T150000Z
LOCATION:Bonn\,  Clara-Schumann-Gymnasium Loestraße 14\,  53113 Bonn
SUMMARY:Kata-Mastertraining
DESCRIPTION: Einladung zum Kata-Mastertraining zur Vorbereitung der Landesmeisterschaft mit Georg Karras 24.04.2022 14 - 17 Uhr Clara Schumann Gymnasium Bonner Talweg/Ecke Loestraße
END:VEVENT
END:VCALENDAR