BEGIN:VCALENDAR
VERSION:2.0
PRODID:-//eventon.com NONSGML v1.0//EN
BEGIN:VEVENT
UID:69e75be69141f
DTSTAMP:20260421T131342
DTSTART:20221015T070000Z
DTEND:20221015T170000Z
LOCATION:Lich/Hessen\,  Sporthalle der Dietrich-Bonhoeffer-Schule Kichhofgasse 24\,  35423 Lich
SUMMARY:6. Shotokan-Tag im DKV
DESCRIPTION: Download Ausschreibung
END:VEVENT
END:VCALENDAR