BEGIN:VCALENDAR
VERSION:2.0
PRODID:-//eventon.com NONSGML v1.0//EN
BEGIN:VEVENT
UID:69e8b8a69a4c8
DTSTAMP:20260422T140142
DTSTART:20220227T080000Z
DTEND:20220227T123000Z
LOCATION:Rheine\,  Sportpark des TV Jahn-Rheine 1885 e.V. Germanenallee 4\,  48429 Rheine
SUMMARY:Stilrichtungslehrgang Goju-Ryu
DESCRIPTION: Stilrichtungslehrgänge Goju-Ryu 1. Lehrgang Kagami Biraki Termin Beginn: 09.01.2022\,  10:00 Uhr Ende: 09.01.2022\,  14:00 Uhr Leitung Christian Winkler Ort Turnhalle am Gymnasium\,  Hammer Str. 19\,  59174 Kamen 2. Lehrgang Spezifika der Stilrichtung Goju-Ryu in Partnerformen und Selbstverteidigung von der Lernform zur realistischen Anwendung in der Selbstverteidigung Termin Beginn: 27.02.2022\,  10:00[..]
END:VEVENT
END:VCALENDAR