BEGIN:VCALENDAR
VERSION:2.0
PRODID:-//eventon.com NONSGML v1.0//EN
BEGIN:VEVENT
UID:69e737c3b3a08
DTSTAMP:20260421T103931
DTSTART:20210327T083000Z
DTEND:20210327T140000Z
LOCATION:BSC Oberhausen Am Kaisergarten 28\,  46049 Oberhausen
SUMMARY:Koshinkan Referenten-Tagung
DESCRIPTION: 21 Jahre offizielle Stilrichtung im DKV Referenten-Tagung NRW am 27. März 2021 Eintreffen: 10.00 Uhr (kleines Frühstück ist vorbereitet!) Koshinkan-Zentral-Dojo BSC-Oberhausen 1977 e.V. Am Kaisergarten 28\,  46049 Oberhausen Telefon: 0208-203323 oder 0171-1247616 Beginn: 10.30 bis ca. 12.00 Uhr Vereinsleiter/Trainer Tagung Teilnehmer: nur für Koshinkan-Vereinsleiter/innen und Trainer/innen KDNW Diese Ausschreibung gilt[..]
END:VEVENT
END:VCALENDAR