BEGIN:VCALENDAR
VERSION:2.0
PRODID:-//eventon.com NONSGML v1.0//EN
BEGIN:VEVENT
UID:69e8a32d4ae14
DTSTAMP:20260422T123005
DTSTART:20211106T093000Z
DTEND:20211106T143000Z
LOCATION:Wesel\,  Petristr. Petristr.\,  46487 Wesel
SUMMARY:Stilrichtungslehrgang Kempo
DESCRIPTION: Siehe Ausschreibung für KDNW-Mitglieder kostenlos
END:VEVENT
END:VCALENDAR