BEGIN:VCALENDAR
VERSION:2.0
PRODID:-//eventon.com NONSGML v1.0//EN
BEGIN:VEVENT
UID:69e75f6a99fd4
DTSTAMP:20260421T132842
DTSTART:20210207T093000Z
DTEND:20210207T133000Z
LOCATION:Hamm\,  Sporthalle der Stephanusschule Herrenstrasse 12\,  59073 Hamm
SUMMARY:Stilrichtungslehrgang Shito-Ryu
DESCRIPTION: Stilrichtungslehrgang Shito-Ryu Teilnahme Für das Jahr 2021 möchte die Stilrichtung Shito-Ryu zwei Stilrichtungslehrgänge anbieten. Teilnehmer aller Stilrichtungen sind herzlich eingeladen. Wer sich vorab informieren möchte: info@kampfsport-hamm.de 1. Lehrgang: Stil-Kata und Anwendung Termin: 07.02.2021\,  11:30-15:30 Uhr (mit Pause) Ort: Sporthalle der Stephanusschule\,  Herrenstrasse 12\,  59073 Hamm Leitung: Michael Stenke Hinweis Der[..]
END:VEVENT
END:VCALENDAR