BEGIN:VCALENDAR
VERSION:2.0
PRODID:-//eventon.com NONSGML v1.0//EN
BEGIN:VEVENT
UID:69e8a368c5795
DTSTAMP:20260422T123104
DTSTART:20210110T080000Z
DTEND:20210110T120000Z
LOCATION:Kamen\,  Turnhalle am Gymnasium Hammer Str. 19\,  59174 Kamen
SUMMARY:Stilrichtungslehrgang Goju-Ryu
DESCRIPTION: Stilrichtungslehrgang Goju-Ryu 1. Lehrgang: Winter-Training: Kagami Biraki\,  trad. Neujahrstraining Termin: 10.01.2021\,  10:00-14:00 Uhr mit Pause Leitung: Christian Winkler Ort: Turnhalle am Gymnasium\,  Hammer Str. 19\,  59174 Kamen
END:VEVENT
END:VCALENDAR