BEGIN:VCALENDAR
VERSION:2.0
PRODID:-//eventon.com NONSGML v1.0//EN
BEGIN:VEVENT
UID:69e8b8c851a43
DTSTAMP:20260422T140216
DTSTART:20210627T080000Z
DTEND:20210627T123000Z
LOCATION:Rheine\,  Sportpark des TV Jahn-Rheine 1885 e.V. Germanenallee 4\,  48429 Rheine
SUMMARY:Stilrichtungslehrgang Goju-Ryu
DESCRIPTION: Stilrichtungslehrgang Goju-Ryu 5. Lehrgang: Spezifika der Stilrichtung Goju-Ryu in Partnerformen und Selbstverteidigung\,  Yakusoku\,  Kumite-Ura\,  Nage Termin: 27.06.2021\,  10:00-14:30 Uhr Leitung: Frank Beeking Ort: Sportpark des TV Jahn-Rheine 1885 e.V.\,  Germanenallee 4 (Navi: Kruppstraße)\,  48429 Rheine
END:VEVENT
END:VCALENDAR