BEGIN:VCALENDAR
VERSION:2.0
PRODID:-//eventon.com NONSGML v1.0//EN
BEGIN:VEVENT
UID:69e61c3fcd0bc
DTSTAMP:20260420T142951
DTSTART:20211016T110000Z
DTEND:20211016T150000Z
LOCATION:St.Arnold\,  Josefschule Sepp-Herberger-Straße 11\,  48485 Neuenkirchen
SUMMARY:ABGESAGT: Stilrichtungslehrgang Goju-Ryu
DESCRIPTION: Der für den 16.10.2021 geplante Stilrichtungslehrgang Goju-Ryu mit Ulrich Heckhuis in St. Arnold entfällt kurzfristig. Wir bitten um Verständnis. &nbsp; Stilrichtungslehrgang Goju-Ryu 8. Lehrgang: Vorbereitung auf Danprüfungen (Teilnahme ab 3. Kyu) Termin: 16.10.2021\,  13:00-17:00 Uhr Leitung: Ulrich Heckhuis Ort: Josefschule St.Arnold\,  Sepp-Herberger-Straße 11\,  48485 Neuenkirchen
END:VEVENT
END:VCALENDAR