BEGIN:VCALENDAR
VERSION:2.0
PRODID:-//eventon.com NONSGML v1.0//EN
BEGIN:VEVENT
UID:69e75f76de735
DTSTAMP:20260421T132854
DTSTART:20211121T090000Z
DTEND:20211121T110000Z
LOCATION:Bonn\,  Clara-Schumann-Gymnasium Loestraße 14\,  53113 Bonn
SUMMARY:Stilrichtungslehrgang Shotokan
DESCRIPTION: Stilrichtungslehrgang Shotokan Teilnahme Shotokan-Karateka ab 1. Kyu Für das Jahr 2021 möchte die Stilrichtung Shotokan die Lehrgangsreihe weiterführen und erweitern\,  um die traditionellen Werte der Stilrichtung zu fördern. 11. Lehrgang: Kata Bassai Sho Termin: 21.11.2021\,  11:00-13:00 Uhr Ort: Clara-Schumann-Gymnasium\,  Bonnertalweg/Ecke Lohestraße 14\,  53129 Bonn Leitung: Georg Karras Die Teilnahme ist[..]
END:VEVENT
END:VCALENDAR