BEGIN:VCALENDAR
VERSION:2.0
PRODID:-//eventon.com NONSGML v1.0//EN
BEGIN:VEVENT
UID:69e89534142dc
DTSTAMP:20260422T113028
DTSTART:20210313T090000Z
DTEND:20210313T110000Z
LOCATION:Dojo Paderborn Ottilienquelle 2\,  33102 Paderborn
SUMMARY:Stilrichtungslehrgang Shotokan
DESCRIPTION: Stilrichtungslehrgang Shotokan Teilnahme Shotokan-Karateka ab 1. Kyu Für das Jahr 2021 möchte die Stilrichtung Shotokan die Lehrgangsreihe weiterführen und erweitern\,  um die traditionellen Werte der Stilrichtung zu fördern. 4. Lehrgang: Kata Jitte Termin: 13.03.2021\,  11:00-13:00 Uhr Ort: Dojo Paderborn\,  Ottilienquelle 2\,  33102 Paderborn Leitung: Swetlana Wall Die Teilnahme ist für[..]
END:VEVENT
END:VCALENDAR