BEGIN:VCALENDAR
VERSION:2.0
PRODID:-//eventon.com NONSGML v1.0//EN
BEGIN:VEVENT
UID:69e89204e666a
DTSTAMP:20260422T111652
DTSTART:20210116T080000Z
DTEND:20210116T160000Z
LOCATION:TSC Eintracht Dortmund Victor-Toyka-Str. 6\,  44139 Dortmund
SUMMARY:KDNW-Trainer*innen-Meeting
DESCRIPTION: KDNW-Trainer*innen-Meeting Für alle Dojoleiter*innen\,  Trainer*innen\,  Übungsleiter*innen\,  Danträger*innen sowie Leistungssportler*innen. Das Trainer*innen-Meeting soll dazu dienen\,  den Austausch untereinander zu fördern. Es steht nicht das Training im Vordergrund\,  sondern die Wissensvermittlung. Veranstalter Karate-Dachverband Nordrhein-Westfalen e.V. Ausrichter TSC Eintracht Dortmund Victor-Toyka-Str. 6\,  44139 Dortmund Termin 16.01.2021 (unter Vorbehalt) Zeitplan n.n. Ausschreibung folgt im[..]
END:VEVENT
END:VCALENDAR