BEGIN:VCALENDAR
VERSION:2.0
PRODID:-//eventon.com NONSGML v1.0//EN
BEGIN:VEVENT
UID:69e88db66793b
DTSTAMP:20260422T105830
DTSTART:20211114T080000Z
DTEND:20211114T133000Z
LOCATION:Kamen\,  Turnhalle am Gymnasium Hammer Str. 19\,  59174 Kamen
SUMMARY:Jukurenlehrgang
DESCRIPTION: Jukurenlehrgänge Teilnahme ab 35 Jahre sowie Übungsleiter*innen\,  die Ältere und Späteinsteiger*innen trainieren – nicht stilrichtungsgebunden! 4. Lehrgang: Kumite-Formen und Wegschule\,  Mondo und ihre Bedeutung Termin: 14.11.2021\,  10:00-15:30 Uhr mit Pause Leitung: Fritz Nöpel (02307/72388)\,  Martin Nienhaus Ort: Turnhalle Gymnasium\,  Hammer Str. 19\,  59174 Kamen Hinweis Keine Kosten und keine Voranmeldung;[..]
END:VEVENT
END:VCALENDAR