BEGIN:VCALENDAR
VERSION:2.0
PRODID:-//eventon.com NONSGML v1.0//EN
BEGIN:VEVENT
UID:69e88d51a2743
DTSTAMP:20260422T105649
DTSTART:20210912T090000Z
DTEND:20210912T120000Z
LOCATION:Köln\,  Gesamtschule Ostheim Hardtgenbuscher Kirchweg 100\,  51107 Köln
SUMMARY:Dananwärter*innen-Lehrgang
DESCRIPTION: Dananwärter*innen-Lehrgänge Teilnahme Ab 1. Kyu Ziele Bedeutung Dananwärter*in\,  das Graduierungssystem (Kyugrade\,  Dangrade)\,  die*der Danträger*in\,  die Grundlagen des DKV-Regelwerkes\,  die Bewertungskriterien Kata und Kumite für Leistungssport und Breitensport. 1. Termin Samstag\,  16.01.2021\,  10:00-13:00 Uhr Leitung: Uwe Portugall Ort: n.n. 2. Termin Samstag\,  20.03.2021\,  10:00-13:00 Uhr Leitung: Frawi Tönnis Tel: 0170/2730326 Ort:[..]
END:VEVENT
END:VCALENDAR