BEGIN:VCALENDAR
VERSION:2.0
PRODID:-//eventon.com NONSGML v1.0//EN
BEGIN:VEVENT
UID:69e4d23250563
DTSTAMP:20260419T150138
DTSTART:20210320T070000Z
DTEND:20210321T123000Z
LOCATION:(Ort wird noch bekannt gegeben) 
SUMMARY:WIRD VERSCHOBEN: Basismodul (Teil 2)
DESCRIPTION: Basismodul Das Basismodul stellt einen Einstieg in die Ausbildung zur*m Trainer*in-C-Breitensport dar und beinhaltet erste Grundlagen\,  die für das Leiten von Gruppen und für die Planung\,  Durchführung und Reflexion von Angeboten wichtig sind. Neben der Vielfalt sportlicher Inhalte und deren Sinnrichtung werden Motive wie Gesundheit\,  Gemeinschaft\,  Erlebnis und Spiel thematisiert.[..]
END:VEVENT
END:VCALENDAR