BEGIN:VCALENDAR
VERSION:2.0
PRODID:-//eventon.com NONSGML v1.0//EN
BEGIN:VEVENT
UID:69e4d20cec09b
DTSTAMP:20260419T150100
DTSTART:20210417T080000Z
DTEND:20210417T120000Z
LOCATION:Duisburg\,  KDNW\,  Haus der Verbände Friedrich-Alfred-Allee 25\,  47055 Duisburg
SUMMARY:Trainer/in -B- Leistungssport Ausbildung (Abschlussprüfung)
DESCRIPTION: Trainer/in -B- Leistungssport Ausbildung Die Tätigkeit des/der Trainer/in-B-Leistungssport umfasst die Planung\,  Organisation\,  Durchführung und Steuerung des systematischen Karate-Leistungstrainings in den Vereinen und den Landesverbänden des DKV. Sie beinhaltet die Weiterführung der leistungsorientierten Grundausbildung ins Aufbautraining bis hin zum Anschlusstraining im Wettkampfkarate. Ein weiterer Schwerpunkt ist die disziplinspezifische Talentsichtung\,  -auswahl und[..]
END:VEVENT
END:VCALENDAR