BEGIN:VCALENDAR
VERSION:2.0
PRODID:-//eventon.com NONSGML v1.0//EN
BEGIN:VEVENT
UID:69e8a372c5414
DTSTAMP:20260422T123114
DTSTART:20201107T080000Z
DTEND:20201107T160000Z
LOCATION:Budokan Bochum e. V. Halbachstr. 3 – 5\,  44793 Bochum
SUMMARY:Prüfer/innen - Neuausbildung Shotokan in Bochum (Teil 1)
DESCRIPTION: Teilnahme mindestens 1. Dan Shotokan\,  ab 01.01. des Jahres nach der Dan-Prüfung\,  Vollendung des 18. Lebensjahres\,  Erwerb von drei Beisitzerbescheinigungen nach dem 1. Teil der Ausbildung. Termine\,  Teil 1 Beginn: 07.11.2020\,  10:00 Uhr Ende: 07.11.2020\,  18:00 Uhr Teil 2 Beginn: 22.11.2020\,  10:00 Uhr Ende: 22.11.2020\,  18:00 Uhr mit abschließender Prüfung[..]
END:VEVENT
END:VCALENDAR