BEGIN:VCALENDAR
VERSION:2.0
PRODID:-//eventon.com NONSGML v1.0//EN
BEGIN:VEVENT
UID:69e61b5c73c1b
DTSTAMP:20260420T142604
DTSTART:20200607T080000Z
DTEND:20200607T133000Z
LOCATION:Kamen\,  Turnhalle am Gymnasium Hammer Str. 19\,  59174 Kamen
SUMMARY:Jukurenlehrgang in Kamen
DESCRIPTION: Jukurenlehrgänge Teilnahme ab 35 Jahre sowie Übungsleiter/innen\,  die Ältere und Späteinsteiger/innen trainieren. Die Jukuren-Lehrgänge sind nicht stilrichtungsgebunden. 2. Lehrgang Karate Do im Alter\,  Anforderungen – Herausforderungen\,  SV und die Folgen\,  Entspannungsformen. Termin Beginn: 07.06.2020\,  10:00 Uhr Ende:   07.06.2020\,  15:30 Uhr mit Pause Leitung Fritz Nöpel Tel.& Fax: (02307)72388\,  Martin Nienhaus Ort[..]
END:VEVENT
END:VCALENDAR