BEGIN:VCALENDAR
VERSION:2.0
PRODID:-//eventon.com NONSGML v1.0//EN
BEGIN:VEVENT
UID:69e7478047e37
DTSTAMP:20260421T114640
DTSTART:20201010T110000Z
DTEND:20201010T150000Z
LOCATION:St.Arnold\,  Josefschule Sepp-Herberger-Straße 11\,  48485 Neuenkirchen
SUMMARY:Stilrichtungslehrgang Goju-Ryu in Neuenkirchen
DESCRIPTION: Stilrichtungslehrgänge Goju-Ryu 8. Lehrgang Teilnahme ab 3. Kyu Kata Sepai Üben der Kata von Impulsgebung in den einzelnen Techniken bis zu unterschiedlichen Spannungsverhältnissen (langes und /oder scharfes Kime) Kata Bunkai Termin Beginn: 10.10.2020\,  13:00 Uhr Ende:   10.10.2020\,  17:00 Uhr Leitung Ulrich Heckhuis U.Heckhuis@kdnw.de Ort Josefschule St.Arnold\,  Sepp-Herberger-Straße 11\,  48485 Neuenkirchen
END:VEVENT
END:VCALENDAR