BEGIN:VCALENDAR
VERSION:2.0
PRODID:-//eventon.com NONSGML v1.0//EN
BEGIN:VEVENT
UID:69e737b148570
DTSTAMP:20260421T103913
DTSTART:20201108T080000Z
DTEND:20201108T133000Z
LOCATION:Kamen\,  Turnhalle am Gymnasium Hammer Str. 19\,  59174 Kamen
SUMMARY:Jukurenlehrgang in Kamen
DESCRIPTION: Jukurenlehrgänge Teilnahme ab 35 Jahre sowie Übungsleiter/innen\,  die Ältere und Späteinsteiger/innen trainieren. Die Jukuren-Lehrgänge sind nicht stilrichtungsgebunden. 4. Lehrgang Kumite Formen und Wegschule\,  Mondo und ihre Bedeutung Termin Beginn: 08.11.2020\,  10:00 Uhr Ende:   08.11.2020\,  15:30 Uhr mit Pause Ort Turnhalle am Gymnasium\,  Hammer Str. 19\,  59174 Kamen Leitung Fritz Nöpel[..]
END:VEVENT
END:VCALENDAR